Workbook
Name _1: #REF!
Name _1: #REF!
Name _2: #REF!
Name _2: #REF!
Name _3: #REF!
Name _3: #REF!
Name _3Y_0Print_A: [1]노임단가!#REF!
Name _4: #REF!
Name _4: #REF!
Name _4Y_0PRINT_AREA: [1]노임단가!#REF!
Name _5: #REF!
Name _5: #REF!
Name _6: #REF!
Name _6: #REF!
Name \a: [2]한전납입금!#REF!
Name \b: [2]한전납입금!#REF!
Name \c: [2]한전납입금!#REF!
Name \d: [2]한전납입금!#REF!
Name \e: [2]한전납입금!#REF!
Name \f: [2]한전납입금!#REF!
Name \x: #REF!
Name \y: #REF!
Name \z: #REF!
Name aaa: #REF!
Name aaa: #REF!
Name b: #REF!
Name C_: #REF!
Name C_: #REF!
Name ddd: #REF!
Name ddd: #REF!
Name pr: #REF!
Name pr: #REF!
Name PRINT_AREA_MI: #REF!
Name PRINT_AREA_MI: #REF!
Name 가격: #REF!
Name 간접비명세서: #REF!
Name 간접비명세서: #REF!
Name 급수산출: [3]양수장내역!#REF!
Name 급수산출: [4]양수장내역!#REF!
Name ㄴㄴ: #REF!
Name ㄴㄴ: #REF!
Name 단가표: #REF!
Name 단가표: #REF!
Name 면적: #REF!
Name 면적: #REF!
Name 면적_원본_읍면삭제__Query_Query: #N/A
Name 면적_원본_읍면삭제__Query_Query: #REF!
Name 명_성: #REF!
Name 명성: #REF!
Name 물리탐사: #REF!
Name 물리탐사: #REF!
Name 발전기: #REF!
Name 발전기: #REF!
Name 보호공산출: [3]양수장내역!#REF!
Name 보호공산출: [4]양수장내역!#REF!
Name 성_문: #REF!
Name 성문: #REF!
Name 수중모터: #REF!
Name 수중모터: #REF!
Name 수중모터펌프: #REF!

Sheet 온천부존조사
A1: 【온천부존조사 수수료】
K2: 단위 : 원
A3: 종별 | B3: 물량 | C3: 단위 | D3: 총 액 | E3: 인 건 비 | G3: 재 료 비 | I3: 경 비 | K3: 비 고
E4: 단 가 | F4: 금 액 | G4: 단 가 | H4: 금 액 | I4: 단 가 | J4: 금 액
A5: 지형 및 수계조사 | B5: 1 | C5: 공 | D5: 912958 | E5: 612358 | F5: 612358 | G5: 6600 | H5: 6600 | I5: 294000 | J5: 294000 | K5: <제 1호표>
A6: 지질 및 지질구조조사 | B6: 1 | C6: 공 | D6: 1039586 | E6: 713678 | F6: 713678 | G6: 2508 | H6: 2508 | I6: 323400 | J6: 323400 | K6: <제 2호표>
A7: 인근지역 온천현황조사 | B7: 1 | C7: 공 | D7: 558458 | E7: 362458 | F7: 362458 | G7: 0 | H7: 0 | I7: 196000 | J7: 196000 | K7: <제 3호표>
A8: 시추공에 대한 굴착계획 | B8: 1 | C8: 공 | D8: 1685558 | E8: 1254358 | F8: 1254358 | G8: 0 | H8: 0 | I8: 431200 | J8: 431200 | K8: <제 4호표>
A9: 보고서작성 | B9: 1 | C9: 식 | D9: 1112358 | E9: 612358 | F9: 612358 | G9: 0 | H9: 0 | I9: 500000 | J9: 500000 | K9: <제 5호표>
A10: 직접비 | D10: 5308918 | F10: 3555210 | H10: 9108 | J10: 1744600
A11: 제경비 : 인건비×요율110~120% 범위 | D11: 2133126 | K11: 0.6
A12: 기술료 : (인건비+제경비)×요율20~40% 범위 | D12: 1137667 | K12: 0.2
A13: 총 원 가 : 직접비+제경비+기술료 | D13: 8500000
A14: 부 가 세 : (총원가×요율) | D14: 850000 | K14: 0.1
A15: 합 계 | D15: 9350000
A17: ⊙ 원가적용방식 : [엔지니어링사업대가의 기준, 실비정액가산방식-지식경제부공고 제2001-116호(2001. 12. 31)]
A18: - 직접인건비 : 소요기술인력 - 100% 인건비 적용
A19: 노임단가 - 엔지니어링진흥법에 의한 엔지니어링 노임단가 기준(2009하반기 발표 기준적용)
A20: - 직접경비 : 노무비-2009하반기 발표 시중노임단가, 재료비-2010년 물가자료 참조
A21: - 제 경 비 : 지식경제부 고시 엔지니어링사업대가의 기준 요율적용(2009.9.1)
A22: - 기 술 료 : 지식경제부 고시 엔지니어링사업대가의 기준 요율적용(2009.9.1)

Sheet 온천공검사
A1: 【온천공검사 수수료】
L2: 단위 :원
A3: 종 별 | B3: 규격 | C3: 물량 | D3: 단위 | E3: 총 액 | F3: 인 건 비 | H3: 재 료 비 | J3: 경 비 | L3: 비 고
F4: 단 가 | G4: 금 액 | H4: 단 가 | I4: 금 액 | J4: 단 가 | K4: 금 액
A5: 지하수 수위조사 | C5: 1 | D5: 공 | E5: =SUM(G5,I5,K5) -> 2102762 | F5: 1408222 | G5: 1408222 | H5: 194040 | I5: 194040 | J5: 500500 | K5: 500500 | L5: <제 1호표>
A6: 물리검층 | C6: 1 | D6: 공 | E6: =SUM(G6,I6,K6) -> 2370341 | F6: 2085483 | G6: 2085483 | H6: 30338 | I6: 30338 | J6: 254520 | K6: 254520 | L6: <제 2호표>
A7: 장비입회 | C7: 1 | D7: 공 | E7: =SUM(G7,I7,K7) -> 925258 | F7: 862258 | G7: 862258 | H7: 0 | I7: 0 | J7: 63000 | K7: 63000 | L7: <제 3호표>
A8: 단계양수시험 | C8: 1 | D8: 공 | E8: =SUM(G8,I8,K8) -> 4628542 | F8: 3801342 | G8: 3801342 | H8: 0 | I8: 0 | J8: 827200 | K8: 827200 | L8: <제 4호표>
A9: 장기양수시험 | C9: 1 | D9: 공 | E9: =SUM(G9,I9,K9) -> 4995922 | F9: 3936072 | G9: 3936072 | H9: 2200 | I9: 2200 | J9: 1057650 | K9: 1057650 | L9: <제 5호표>
A10: 수위회복시험 | C10: 1 | D10: 공 | E10: =SUM(G10,I10,K10) -> 0 | F10: 0 | G10: 0 | H10: 0 | I10: 0 | J10: 0 | K10: 0 | L10: <제 6호표>
A11: 보고서작성 | C11: 1 | D11: 식 | E11: =SUM(G11,I11,K11) -> 1724716 | F11: 1224716 | G11: 1224716 | H11: 0 | I11: 0 | J11: 500000 | K11: 500000 | L11: <제 7호표>
A12: 직 접 비 | E12: =SUM(E5:E11) -> 16747541 | G12: =SUM(G5:G11) -> 13318093 | I12: =SUM(I5:I11) -> 226578 | K12: =SUM(K5:K11) -> 3202870
A13: 제경비 : 인건비×요율110~120% 범위 | E13: =TRUNC(G12*L13) -> 8656760 | L13: 0.65
A14: 기술료 : (인건비+제경비)×요율20~40% 범위 | E14: =TRUNC((SUM(G12,E13)*L14)) -> 4394970 | L14: 0.2
A15: 총 원 가 : 직접비+제경비+기술료 | E15: =ROUNDDOWN(SUM(E12:E14),-6) -> 29000000
A16: 부 가 세 : (총원가×요율) | E16: =TRUNC((E15*L16)/10)*10 -> 2900000 | L16: 0.1
A17: 합 계 | E17: =SUM(E15:E16) -> 31900000
A19: ⊙ 원가적용방식 : [엔지니어링사업대가의 기준, 실비정액가산방식-지식경제부공고 제2001-116호(2001. 12. 31)]
A20: - 직접인건비 : 소요기술인력 - 100% 인건비 적용
A21: 노임단가 - 엔지니어링진흥법에 의한 엔지니어링 노임단가 기준(2009하반기 발표 기준적용)
A22: - 직접경비 : 노무비-2009하반기 발표 시중노임단가, 재료비-2010년 물가자료 참조
A23: - 제 경 비 : 지식경제부 고시 엔지니어링사업대가의 기준 요율적용(2009.9.1)
A24: - 기 술 료 : 지식경제부 고시 엔지니어링사업대가의 기준 요율적용(2009.9.1)

Sheet 온천공재검사
A1: 【온천공 재검사 수수료】
L2: 단위 : 원
A3: 공 종 별 | B3: 규격 | C3: 물량 | D3: 단위 | E3: 총 액 | F3: 인 건 비 | H3: 재 료 비 | J3: 경 비 | L3: 비 고
F4: 단 가 | G4: 금 액 | H4: 단 가 | I4: 금 액 | J4: 단 가 | K4: 금 액
A5: 지하수 수위조사 | C5: 1 | D5: 공 | E5: =SUM(G5,I5,K5) -> 2102762 | F5: 1408222 | G5: 1408222 | H5: 194040 | I5: 194040 | J5: 500500 | K5: 500500 | L5: <제 1호표>
A6: 물리검층 | C6: 1 | D6: 공 | E6: =SUM(G6,I6,K6) -> 0 | F6: 0 | G6: 0 | H6: 0 | I6: 0 | J6: 0 | K6: 0 | L6: <제 2호표>
A7: 장비입회 | C7: 1 | D7: 공 | E7: =SUM(G7,I7,K7) -> 925258 | F7: 862258 | G7: 862258 | H7: 0 | I7: 0 | J7: 63000 | K7: 63000 | L7: <제 3호표>
A8: 단계양수시험 | C8: 1 | D8: 공 | E8: =SUM(G8,I8,K8) -> 4628542 | F8: 3801342 | G8: 3801342 | H8: 0 | I8: 0 | J8: 827200 | K8: 827200 | L8: <제 4호표>
A9: 장기양수시험 | C9: 1 | D9: 공 | E9: =SUM(G9,I9,K9) -> 4995922 | F9: 3936072 | G9: 3936072 | H9: 2200 | I9: 2200 | J9: 1057650 | K9: 1057650 | L9: <제 5호표>
A10: 수위회복시험 | C10: 1 | D10: 공 | E10: =SUM(G10,I10,K10) -> 0 | F10: 0 | G10: 0 | H10: 0 | I10: 0 | J10: 0 | K10: 0 | L10: <제 6호표>
A11: 보고서작성 | C11: 1 | D11: 식 | E11: =SUM(G11,I11,K11) -> 1724716 | F11: 1224716 | G11: 1224716 | H11: 0 | I11: 0 | J11: 500000 | K11: 500000 | L11: <제 7호표>
A12: 직 접 비 | E12: =SUM(E5:E11) -> 14377200 | G12: =SUM(G5:G11) -> 11232610 | I12: =SUM(I5:I11) -> 196240 | K12: =SUM(K5:K11) -> 2948350
A13: 제경비 : 인건비×요율110~120% 범위 | E13: =TRUNC(G12*L13) -> 7301196 | L13: 0.65
A14: 기술료 : (인건비+제경비)×요율20~40% 범위 | E14: =TRUNC((SUM(G12,E13)*L14)) -> 3706761 | L14: 0.2
A15: 총 원 가 : 직접비+제경비+기술료 | E15: =ROUNDDOWN(SUM(E12:E14),-6) -> 25000000
A16: 부 가 세 : (총원가×요율) | E16: =TRUNC((E15*L16)/10)*10 -> 2500000 | L16: 0.1
A17: 합 계 | E17: =SUM(E15:E16) -> 27500000
A19: ⊙ 원가적용방식 : [엔지니어링사업대가의 기준, 실비정액가산방식-지식경제부공고 제2001-116호(2001. 12. 31)]
A20: - 직접인건비 : 소요기술인력 - 100% 인건비 적용
A21: 노임단가 - 엔지니어링진흥법에 의한 엔지니어링 노임단가 기준(2009하반기 발표 기준적용)
A22: - 직접경비 : 노무비-2009하반기 발표 시중노임단가, 재료비-2010년 물가자료 참조
A23: - 제 경 비 : 지식경제부 고시 엔지니어링사업대가의 기준 요율적용(2009.9.1)
A24: - 기 술 료 : 지식경제부 고시 엔지니어링사업대가의 기준 요율적용(2009.9.1)

Sheet 온천공영향조사(관2↓)
A1: 【온천공영향조사 수수료 (조사공 1개공,관측공 2개공이하)】
L2: 단위 : 원
A3: 종 별 | B3: 규격 | C3: 물량 | D3: 단위 | E3: 총 액 | F3: 인 건 비 | H3: 재 료 비 | J3: 경 비 | L3: 비 고
F4: 단 가 | G4: 금 액 | H4: 단 가 | I4: 금 액 | J4: 단 가 | K4: 금 액
A5: 1. 온천공검사
A6: 지하수 수위조사 | C6: 1 | D6: 공 | E6: =SUM(G6,I6,K6) -> 2102762 | F6: 1408222 | G6: 1408222 | H6: 194040 | I6: 194040 | J6: 500500 | K6: 500500 | L6: <제 1호표>
A7: 물리검층 | C7: 1 | D7: 공 | E7: =SUM(G7,I7,K7) -> 2370341 | F7: 2085483 | G7: 2085483 | H7: 30338 | I7: 30338 | J7: 254520 | K7: 254520 | L7: <제 2호표>
A8: 장비입회 | C8: 1 | D8: 공 | E8: =SUM(G8,I8,K8) -> 925258 | F8: 862258 | G8: 862258 | H8: 0 | I8: 0 | J8: 63000 | K8: 63000 | L8: <제 3호표>
A9: 단계양수시험 | C9: 1 | D9: 공 | E9: =SUM(G9,I9,K9) -> 4628542 | F9: 3801342 | G9: 3801342 | H9: 0 | I9: 0 | J9: 827200 | K9: 827200 | L9: <제 4호표>
A10: 장기양수시험 | C10: 1 | D10: 공 | E10: =SUM(G10,I10,K10) -> 4995922 | F10: 3936072 | G10: 3936072 | H10: 2200 | I10: 2200 | J10: 1057650 | K10: 1057650 | L10: <제 5호표>
A11: 2. 온천공영향조사
A12: 영향장기양수시험 | C12: 1 | D12: 공 | E12: =SUM(G12,I12,K12) -> 6418942 | F12: 5585142 | G12: 5585142 | H12: 2200 | I12: 2200 | J12: 831600 | K12: 831600 | L12: <제 6호표>
A13: 3. 보고서작성 | C13: 1 | D13: 식 | E13: =SUM(G13,I13,K13) -> 1724716 | F13: 1224716 | G13: 1224716 | H13: 0 | I13: 0 | J13: 500000 | K13: 500000 | L13: <제 7호표>
A14: 직 접 비 | E14: =SUM(E6:E13) -> 23166483 | G14: =SUM(G6:G13) -> 18903235 | I14: =SUM(I6:I13) -> 228778 | K14: =SUM(K6:K13) -> 4034470
A15: 제경비 : 인건비×요율110~120% 범위 | E15: =TRUNC(G14*L15) -> 14177426 | L15: 0.75
A16: 기술료 : (인건비+제경비)×요율20~40% 범위 | E16: =TRUNC((SUM(G14,E15)*L16)) -> 6616132 | L16: 0.2
A17: 총 원 가 : 직접비+제경비+기술료 | E17: =ROUNDDOWN(SUM(E14:E16),-6) -> 43000000
A18: 부 가 세 : (총원가×요율) | E18: =TRUNC((E17*L18)/10)*10 -> 4300000 | L18: 0.1
A19: 합 계 | E19: =SUM(E17:E18) -> 47300000
A21: ⊙ 원가적용방식 : [엔지니어링사업대가의 기준, 실비정액가산방식-지식경제부공고 제2001-116호(2001. 12. 31)]
A22: - 직접인건비 : 소요기술인력 - 100% 인건비 적용
A23: 노임단가 - 엔지니어링진흥법에 의한 엔지니어링 노임단가 기준(2009하반기 발표 기준적용)
A24: - 직접경비 : 노무비-2009하반기 발표 시중노임단가, 재료비-2010년 물가자료 참조
A25: - 제 경 비 : 지식경제부 고시 엔지니어링사업대가의 기준 요율적용(2009.9.1)
A26: - 기 술 료 : 지식경제부 고시 엔지니어링사업대가의 기준 요율적용(2009.9.1)

Sheet 온천공영향조사(관3↑)
A1: 【온천공영향조사 수수료 (조사공 1개공,관측공 3개공이상)】
L2: 단위 :원
A3: 종 별 | B3: 규격 | C3: 물량 | D3: 단위 | E3: 총 액 | F3: 인 건 비 | H3: 재 료 비 | J3: 경 비 | L3: 비 고
F4: 단 가 | G4: 금 액 | H4: 단 가 | I4: 금 액 | J4: 단 가 | K4: 금 액
A5: 1. 온천공검사
A6: 지하수 수위조사 | C6: 1 | D6: 공 | E6: =SUM(G6,I6,K6) -> 2102762 | F6: 1408222 | G6: 1408222 | H6: 194040 | I6: 194040 | J6: 500500 | K6: 500500 | L6: <제 1호표>
A7: 물리검층 | C7: 1 | D7: 공 | E7: =SUM(G7,I7,K7) -> 2370341 | F7: 2085483 | G7: 2085483 | H7: 30338 | I7: 30338 | J7: 254520 | K7: 254520 | L7: <제 2호표>
A8: 장비입회 | C8: 1 | D8: 공 | E8: =SUM(G8,I8,K8) -> 925258 | F8: 862258 | G8: 862258 | H8: 0 | I8: 0 | J8: 63000 | K8: 63000 | L8: <제 3호표>
A9: 단계양수시험 | C9: 1 | D9: 공 | E9: =SUM(G9,I9,K9) -> 4628542 | F9: 3801342 | G9: 3801342 | H9: 0 | I9: 0 | J9: 827200 | K9: 827200 | L9: <제 4호표>
A10: 장기양수시험 | C10: 1 | D10: 공 | E10: =SUM(G10,I10,K10) -> 4995922 | F10: 3936072 | G10: 3936072 | H10: 2200 | I10: 2200 | J10: 1057650 | K10: 1057650 | L10: <제 5호표>
A11: 2. 온천공영향조사
A12: 영향장기양수시험 | C12: 1 | D12: 공 | E12: =SUM(G12,I12,K12) -> 14993180 | F12: 13327780 | G12: 13327780 | H12: 2200 | I12: 2200 | J12: 1663200 | K12: 1663200 | L12: <제 6호표>
A13: 3. 보고서작성 | C13: 1 | D13: 식 | E13: =SUM(G13,I13,K13) -> 1724716 | F13: 1224716 | G13: 1224716 | H13: 0 | I13: 0 | J13: 500000 | K13: 500000 | L13: <제 7호표>
A14: 직 접 비 | E14: =SUM(E6:E13) -> 31740721 | G14: =SUM(G6:G13) -> 26645873 | I14: =SUM(I6:I13) -> 228778 | K14: =SUM(K6:K13) -> 4866070
A15: 제경비 : 인건비×요율110~120% 범위 | E15: =TRUNC(G14*L15) -> 10658349 | L15: 0.4
A16: 기술료 : (인건비+제경비)×요율20~40% 범위 | E16: =TRUNC((SUM(G14,E15)*L16)) -> 7460844 | L16: 0.2
A17: 총 원 가 : 직접비+제경비+기술료 | E17: =ROUNDDOWN(SUM(E14:E16),-6) -> 49000000
A18: 부 가 세 : (총원가×요율) | E18: =TRUNC((E17*L18)/10)*10 -> 4900000 | L18: 0.1
A19: 합 계 | E19: =SUM(E17:E18) -> 53900000
A21: ⊙ 원가적용방식 : [엔지니어링사업대가의 기준, 실비정액가산방식-지식경제부공고 제2001-116호(2001. 12. 31)]
A22: - 직접인건비 : 소요기술인력 - 100% 인건비 적용
A23: 노임단가 - 엔지니어링진흥법에 의한 엔지니어링 노임단가 기준(2009하반기 발표 기준적용)
A24: - 직접경비 : 노무비-2009하반기 발표 시중노임단가, 재료비-2010년 물가자료 참조
A25: - 제 경 비 : 지식경제부 고시 엔지니어링사업대가의 기준 요율적용(2009.9.1)
A26: - 기 술 료 : 지식경제부 고시 엔지니어링사업대가의 기준 요율적용(2009.9.1)

Sheet 온천자원평가조사
A1: 【온천자원평가조사 수수료 (온천발견신고공 제외 2개공기준)】
L2: 단위 : 원
A3: 종 별 | B3: 규격 | C3: 물량 | D3: 단위 | E3: 총 액 | F3: 인 건 비 | H3: 재 료 비 | J3: 경 비 | L3: 비 고
F4: 단 가 | G4: 금 액 | H4: 단 가 | I4: 금 액 | J4: 단 가 | K4: 금 액
A5: 1. 온천공검사
A6: 지하수 수위조사 | C6: 2 | D6: 공 | E6: =SUM(G6,I6,K6) -> 4205524 | F6: 1408222 | G6: 2816444 | H6: 194040 | I6: 388080 | J6: 500500 | K6: 1001000 | L6: <제 1호표>
A7: 물리검층 | C7: 2 | D7: 공 | E7: =SUM(G7,I7,K7) -> 4740682 | F7: 2085483 | G7: 4170966 | H7: 30338 | I7: 60676 | J7: 254520 | K7: 509040 | L7: <제 2호표>
A8: 장비입회 | C8: 2 | D8: 공 | E8: =SUM(G8,I8,K8) -> 1850516 | F8: 862258 | G8: 1724516 | H8: 0 | I8: 0 | J8: 63000 | K8: 126000 | L8: <제 3호표>
A9: 단계양수시험 | C9: 2 | D9: 공 | E9: =SUM(G9,I9,K9) -> 9257084 | F9: 3801342 | G9: 7602684 | H9: 0 | I9: 0 | J9: 827200 | K9: 1654400 | L9: <제 4호표>
A10: 장기양수시험 | C10: 2 | D10: 공 | E10: =SUM(G10,I10,K10) -> 9991844 | F10: 3936072 | G10: 7872144 | H10: 2200 | I10: 4400 | J10: 1057650 | K10: 2115300 | L10: <제 5호표>
A11: 2. 온천공영향조사
A12: 영향장기양수시험 | C12: 1 | D12: 식 | E12: =SUM(G12,I12,K12) -> 6418942 | F12: 5585142 | G12: 5585142 | H12: 2200 | I12: 2200 | J12: 831600 | K12: 831600 | L12: <제 6호표>
A13: 3. 온천부존조사
A14: 지구답사 | C14: 1 | D14: 식 | E14: =SUM(G14,I14,K14) -> 1512727 | F14: 1293387 | G14: 1293387 | H14: 11440 | I14: 11440 | J14: 207900 | K14: 207900 | L14: <제 7호표>
A15: 원격탐사 | C15: 1 | D15: 식 | E15: =SUM(G15,I15,K15) -> 1995354 | F15: 1983952 | G15: 1983952 | H15: 11402 | I15: 11402 | J15: 0 | K15: 0 | L15: <제 8호표>
A16: 지질조사 | C16: 1.5 | D16: ㎢ | E16: =SUM(G16,I16,K16) -> 7900866 | F16: 4760736 | G16: 7141104 | H16: 2508 | I16: 3762 | J16: 504000 | K16: 756000 | L16: <제 9호표>
A17: 물리탐사 | E17: =SUM(G17,I17,K17) -> 0 | G17: 0 | I17: 0 | K17: 0
A18: - 극저주파 탐사 | C18: 5 | D18: 측선 | E18: =SUM(G18,I18,K18) -> 4583220 | F18: 718136 | G18: 3590680 | H18: 2508 | I18: 12540 | J18: 196000 | K18: 980000 | L18: <제 10호표>
A19: - 전기비저항 수직탐사 | C19: 5 | D19: 측선 | E19: =SUM(G19,I19,K19) -> 3982440 | F19: 595092 | G19: 2975460 | H19: 68926 | I19: 344630 | J19: 132470 | K19: 662350 | L19: <제 11호표>
A20: - 전기비저항 쌍극자탐사 | C20: 5 | D20: 측선 | E20: =SUM(G20,I20,K20) -> 9377335 | F20: 1436272 | G20: 7181360 | H20: 68926 | I20: 344630 | J20: 370269 | K20: 1851345 | L20: <제 12호표>
A21: 수리지질조사 | C21: 1 | D21: 식 | E21: =SUM(G21,I21,K21) -> 11565612 | F21: 10053904 | G21: 10053904 | H21: 2508 | I21: 2508 | J21: 1509200 | K21: 1509200 | L21: <제 13호표>
A22: 3. 보고서작성 | C22: 1 | D22: 식 | E22: =SUM(G22,I22,K22) -> 10685370 | F22: 9185370 | G22: 9185370 | H22: 0 | I22: 0 | J22: 1500000 | K22: 1500000 | L22: <제 14호표>
A23: 직 접 비 | E23: =SUM(E6:E22) -> 88067516 | G23: =SUM(G6:G22) -> 73177113 | I23: =SUM(I6:I22) -> 1186268 | K23: =SUM(K6:K22) -> 13704135
A24: 제경비 : 인건비×요율110~120% 범위 | E24: =TRUNC(G23*L24) -> 38052098 | L24: 0.52
A25: 기술료 : (인건비+제경비)×요율20~40% 범위 | E25: =TRUNC((SUM(G23,E24)*L25)) -> 22245842 | L25: 0.2
A26: 총 원 가 : 직접비+제경비+기술료 | E26: =ROUNDDOWN(SUM(E23:E25),-6) -> 148000000
A27: 부 가 세 : (총원가×요율) | E27: =TRUNC((E26*L27)/10)*10 -> 14800000 | L27: 0.1
A28: 합 계 | E28: =SUM(E26:E27) -> 162800000
A30: ⊙ 원가적용방식 : [엔지니어링사업대가의 기준, 실비정액가산방식-지식경제부공고 제2001-116호(2001. 12. 31)]
A31: - 직접인건비 : 소요기술인력 - 100% 인건비 적용
A32: 노임단가 - 엔지니어링진흥법에 의한 엔지니어링 노임단가 기준(2009하반기 발표 기준적용)
A33: - 직접경비 : 노무비-2009하반기 발표 시중노임단가, 재료비-2010년 물가자료 참조
A34: - 제 경 비 : 지식경제부 고시 엔지니어링사업대가의 기준 요율적용(2009.9.1)
A35: - 기 술 료 : 지식경제부 고시 엔지니어링사업대가의 기준 요율적용(2009.9.1)

Sheet 정기온천자원조사(양수시험) 
A3: 【정기온천자원조사(양수시험) 수수료】
I4: 단위 : 원
A5: 종별 | B5: 규격 | C5: 물량 | D5: 단위 | E5: 총액 | F5: 직접 인건비 | G5: 재료비 | H5: 직접경비 | I5: 비고
A6: 온천공 양수시험 | C6: 1 | D6: 공 | E6: =SUM(F6:H6) -> 2043647 | F6: =INT([5]일위대가!F6*'[5]정기온천자원조사(양수시험)'!C6) -> 1583380 | G6: =INT([5]일위대가!H6*'[5]정기온천자원조사(양수시험)'!C6) -> 166267 | H6: =INT([5]일위대가!J6*'[5]정기온천자원조사(양수시험)'!C6) -> 294000 | I6: 제 1호표
A7: 온천공 수위측정 | C7: 1 | D7: 공 | E7: =SUM(F7:H7) -> 1975676 | F7: =INT([5]일위대가!F31*'[5]정기온천자원조사(양수시험)'!C7) -> 1669916 | G7: =INT([5]일위대가!H31*'[5]정기온천자원조사(양수시험)'!C7) -> 0 | H7: =INT([5]일위대가!J31*'[5]정기온천자원조사(양수시험)'!C7) -> 305760 | I7: 제 2호표
A8: 성분검사 | C8: 1 | D8: 공 | E8: =SUM(F8:H8) -> 495342 | F8: =INT([5]일위대가!F56*'[5]정기온천자원조사(양수시험)'!C8) -> 271843 | G8: =INT([5]일위대가!H56*'[5]정기온천자원조사(양수시험)'!C8) -> 9166 | H8: =INT([5]일위대가!J56*'[5]정기온천자원조사(양수시험)'!C8) -> 214333 | I8: 제 3호표
A9: 보고서 작성 | C9: 1 | D9: 식 | E9: =SUM(F9:H9) -> 796381 | F9: =INT([5]일위대가!F82*'[5]정기온천자원조사(양수시험)'!C9) -> 696381 | G9: =INT([5]일위대가!H82*'[5]정기온천자원조사(양수시험)'!C9) -> 0 | H9: =INT([5]일위대가!J82*'[5]정기온천자원조사(양수시험)'!C9) -> 100000 | I9: 제 4호표
A10: 직접비 | E10: =SUM(E6:E9) -> 5311046 | F10: =SUM(F6:F9) -> 4221520 | G10: =SUM(G6:G9) -> 175433 | H10: =SUM(H6:H9) -> 914093
A11: 제경비 : 인건비×요율110~120% 범위 | E11: =INT(F10*I11) -> 4052659 | I11: 0.96
A12: 기술료 : (인건비+제경비)×요율20~40% 범위 | E12: =INT((F10+E11)*I12) -> 1654835 | I12: 0.2
A13: 총 원 가 : 직접비+제경비+기술료 | E13: =ROUNDDOWN(SUM(E10:E12),-5) -> 11000000
A14: 부 가 세 : (총원가×요율) | E14: =INT((E13*I14)) -> 1100000 | I14: 0.1
A15: 합 계 | E15: =SUM(E13,E14) -> 12100000
A16: * 단, 장비교체 및 동력사용등 시험에 필요한 각종 부대경비는 의뢰자측에서 부담하는 조건임
A17: * 상기단가는 가장 일반적인 조사내용에 대한 단가로 필요에 따라 추가 항목을 별도 계상할 수 있음.
A19: ⊙ 원가적용방식 : [엔지니어링사업대가의 기준, 실비정액가산방식-지식경제부공고 제2001-116호(2001. 12. 31)]
A20: - 직접인건비 : 소요기술인력 - 100% 인건비 적용
A21: 노임단가 - 엔지니어링진흥법에 의한 엔지니어링 노임단가 기준(2009하반기 발표 기준적용)
A22: - 직접경비 : 노무비-2009하반기 발표 시중노임단가, 재료비-2010년 물가자료 참조
A23: - 제 경 비 : 지식경제부 고시 엔지니어링사업대가의 기준 요율적용(2009.9.1)
A24: - 기 술 료 : 지식경제부 고시 엔지니어링사업대가의 기준 요율적용(2009.9.1)

Sheet 정기온천자원조사(수량수위관측) 
A3: 【정기온천자원조사(수량수위관측) 수수료】
I4: 단위 : 원
A5: 종별 | B5: 규격 | C5: 물량 | D5: 단위 | E5: 총액 | F5: 직접 인건비 | G5: 재료비 | H5: 직접경비 | I5: 비고
A6: 온천수 수량관측 | C6: 1 | D6: 공 | E6: =SUM(F6:H6) -> 1537400 | F6: 1175133 | G6: 166267 | H6: 196000 | I6: 제 1호표
A7: 온천수 수위관측 | C7: 1 | D7: 공 | E7: =SUM(F7:H7) -> 1428501 | F7: 1220741 | G7: 0 | H7: 207760 | I7: 제 2호표
A8: 성분검사 | C8: 1 | D8: 공 | E8: =SUM(F8:H8) -> 495342 | F8: 271843 | G8: 9166 | H8: 214333 | I8: 제 3호표
A9: 보고서 작성 | C9: 1 | D9: 식 | E9: =SUM(F9:H9) -> 796381 | F9: 696381 | G9: 0 | H9: 100000 | I9: 제 4호표
A10: 직접비 | E10: =SUM(E6:E9) -> 4257624 | F10: =SUM(F6:F9) -> 3364098 | G10: =SUM(G6:G9) -> 175433 | H10: =SUM(H6:H9) -> 718093
A11: 제경비 : 인건비×요율110~120% 범위 | E11: =INT(F10*I11) -> 3229534 | I11: 0.96
A12: 기술료 : (인건비+제경비)×요율20~40% 범위 | E12: =INT((F10+E11)*I12) -> 1318726 | I12: 0.2
A13: 총 원 가 : 직접비+제경비+기술료 | E13: =ROUNDDOWN(SUM(E10:E12),-5) -> 8800000
A14: 부 가 세 : (총원가×요율) | E14: =INT((E13*I14)) -> 880000 | I14: 0.1
A15: 합 계 | E15: =SUM(E13,E14) -> 9680000
A16: * 단, 장비교체 및 동력사용등 시험에 필요한 각종 부대경비는 의뢰자측에서 부담하는 조건임
A17: * 상기단가는 가장 일반적인 조사내용에 대한 단가로 필요에 따라 추가 항목을 별도 계상할 수 있음.
A19: ⊙ 원가적용방식 : [엔지니어링사업대가의 기준, 실비정액가산방식-지식경제부공고 제2001-116호(2001. 12. 31)]
A20: - 직접인건비 : 소요기술인력 - 100% 인건비 적용
A21: 노임단가 - 엔지니어링진흥법에 의한 엔지니어링 노임단가 기준(2009하반기 발표 기준적용)
A22: - 직접경비 : 노무비-2009하반기 발표 시중노임단가, 재료비-2010년 물가자료 참조
A23: - 제 경 비 : 지식경제부 고시 엔지니어링사업대가의 기준 요율적용(2009.9.1)
A24: - 기 술 료 : 지식경제부 고시 엔지니어링사업대가의 기준 요율적용(2009.9.1)
